##############################################################################
#                                                                            #
# This CIF contains the data in a paper accepted for publication in          #
# Acta Crystallographica Section E. It conforms to the requirements of       #
# Notes for Authors for Acta Crystallographica Section E, and has been       #
# peer reviewed under the auspices of the IUCr Commission on Journals.       #
#                                                                            #
# Full details of the Crystallographic Information File format               #
# are given in the paper "The Crystallographic Information File (CIF):       #
# a New Standard Archive File for Crystallography" by S. R. Hall, F. H.      #
# Allen and I. D. Brown [Acta Cryst. (1991), A47, 655-685].                  #
#                                                                            #
# The current version of the core CIF dictionary is obtainable from          #
# ftp://ftp.iucr.org/pub/cif_core.dic.                                       #
#                                                                            #
# Software is freely available for graphical display of the structure(s)     #
# in this CIF. For information consult the CIF software page                 #
# http://www.iucr.org/resources/cif/software.                                #
#                                                                            #
# This file may be used for bona fide research purposes within the           #
# scientific community so long as proper attribution is given to the journal # 
# article from which it was obtained.                                        #
#                                                                            #
##############################################################################
data_I
_audit_creation_method     SHELXL-97
_chemical_name_systematic
;
N-(3-Methylbenzoyl)-2-nitrobenzenesulfonamide
;
_chemical_name_common     ?
_chemical_formula_moiety     'C14 H12 N2 O5 S'
_chemical_formula_sum     'C14 H12 N2 O5 S'
_chemical_formula_iupac     'C14 H12 N2 O5 S'
_chemical_formula_weight     320.32
_chemical_melting_point     ?
_symmetry_cell_setting     orthorhombic
_symmetry_space_group_name_H-M     'P b c a'
_symmetry_space_group_name_HALL     '-P 2ac 2ab'
loop_
    _symmetry_equiv_pos_as_xyz
    'x, y, z'
    '-x+1/2, -y, z+1/2'
    'x+1/2, -y+1/2, -z'
    '-x, y+1/2, -z+1/2'
    '-x, -y, -z'
    'x-1/2, y, -z-1/2'
    '-x-1/2, y-1/2, z'
    'x, -y-1/2, z-1/2'
_cell_length_a     12.2270(10)
_cell_length_b     12.8540(10)
_cell_length_c     18.317(2)
_cell_angle_alpha     90.00
_cell_angle_beta     90.00
_cell_angle_gamma     90.00
_cell_volume     2878.8(5)
_cell_formula_units_Z     8
_cell_measurement_reflns_used     2012
_cell_measurement_theta_min     2.55
_cell_measurement_theta_max     27.82
_cell_measurement_temperature     293(2)
_exptl_crystal_description     prism
_exptl_crystal_colour     colorless
_exptl_crystal_size_max     0.48
_exptl_crystal_size_mid     0.44
_exptl_crystal_size_min     0.32
_exptl_crystal_density_diffrn     1.478
_exptl_crystal_density_meas     ?
_exptl_crystal_density_method     'not measured'
_exptl_crystal_F_000     1328
_exptl_absorpt_coefficient_mu     0.251
_exptl_absorpt_correction_type     multi-scan
_exptl_absorpt_process_details
;
(CrysAlis RED; Oxford Diffraction, 2009)
;
_exptl_absorpt_correction_T_min     0.8891
_exptl_absorpt_correction_T_max     0.9241
_exptl_special_details
;
CrysAlis RED (Oxford Diffraction, 2009)
Empirical absorption correction using spherical harmonics,
implemented in SCALE3 ABSPACK scaling algorithm.
;
_diffrn_ambient_temperature     293(2)
_diffrn_radiation_type     MoK\a
_diffrn_radiation_wavelength     0.71073
_diffrn_radiation_source     'fine-focus sealed tube'
_diffrn_radiation_monochromator     graphite
_diffrn_measurement_device_type
;
Oxford Diffraction Xcalibur diffractometer
with a Sapphire CCD detector
;
_diffrn_measurement_method
;
Rotation method data acquisition using ω
;
_diffrn_detector_area_resol_mean     ?
_diffrn_reflns_number     7423
_diffrn_reflns_av_R_equivalents     0.0192
_diffrn_reflns_av_sigmaI/netI     0.0253
_diffrn_reflns_theta_min     2.55
_diffrn_reflns_theta_max     26.37
_diffrn_reflns_theta_full     26.37
_diffrn_measured_fraction_theta_max     0.996
_diffrn_measured_fraction_theta_full     0.996
_diffrn_reflns_limit_h_min     -15
_diffrn_reflns_limit_h_max     8
_diffrn_reflns_limit_k_min     -8
_diffrn_reflns_limit_k_max     16
_diffrn_reflns_limit_l_min     -21
_diffrn_reflns_limit_l_max     22
_diffrn_standards_number     0
_diffrn_standards_interval_count     ?
_diffrn_standards_interval_time     ?
_diffrn_standards_decay_%     0
_refine_special_details
;
Refinement of F² against ALL reflections. The weighted R-factor
wR and goodness of fit S are based on F², conventional
R-factors R are based on F, with F set to zero for
negative F². The threshold expression of F² >
σ(F²) is used only for calculating R-factors(gt) etc.
and is not relevant to the choice of reflections for refinement.
R-factors based on F² are statistically about twice as large
as those based on F, and R- factors based on ALL data will be
even larger.
;
_reflns_number_total     2936
_reflns_number_gt     2306
_reflns_threshold_expression     I>2sigma(I)
_refine_ls_structure_factor_coef     Fsqd
_refine_ls_matrix_type     full
_refine_ls_R_factor_all     0.0593
_refine_ls_R_factor_gt     0.0440
_refine_ls_wR_factor_gt     0.1127
_refine_ls_wR_factor_ref     0.1244
_refine_ls_goodness_of_fit_ref     1.042
_refine_ls_restrained_S_all     1.042
_refine_ls_number_reflns     2936
_refine_ls_number_parameters     203
_refine_ls_number_restraints     1
_refine_ls_hydrogen_treatment     mixed
_refine_ls_weighting_scheme     calc
_refine_ls_weighting_details
         'calc w=1/[σ²(Fo²)+(0.0579P)²+1.5722P] where P=(Fo²+2Fc²)/3'
_atom_sites_solution_hydrogens     geom
_atom_sites_solution_primary     direct
_atom_sites_solution_secondary     difmap
_refine_ls_shift/su_max     0.001
_refine_ls_shift/su_mean     0.000
_refine_diff_density_max     0.381
_refine_diff_density_min     -0.327
_refine_ls_extinction_method     none
_refine_ls_extinction_coef     ?
loop_
    _atom_type_symbol
    _atom_type_description
    _atom_type_scat_dispersion_real
    _atom_type_scat_dispersion_imag
    _atom_type_scat_source
    'C' 'C' 0.0033 0.0016
                         'International Tables Vol C Tables 4.2.6.8 and 6.1.1.4'
    'H' 'H' 0.0000 0.0000
                         'International Tables Vol C Tables 4.2.6.8 and 6.1.1.4'
    'N' 'N' 0.0061 0.0033
                         'International Tables Vol C Tables 4.2.6.8 and 6.1.1.4'
    'O' 'O' 0.0106 0.0060
                         'International Tables Vol C Tables 4.2.6.8 and 6.1.1.4'
    'S' 'S' 0.1246 0.1234
                         'International Tables Vol C Tables 4.2.6.8 and 6.1.1.4'
_computing_data_collection
;
CrysAlis CCD (Oxford Diffraction, 2009)
;
_computing_cell_refinement
;
CrysAlis RED (Oxford Diffraction, 2009)
;
_computing_data_reduction
;
CrysAlis RED (Oxford Diffraction, 2009)
;
_computing_structure_solution     'SHELXS97 (Sheldrick, 2008)'
_computing_structure_refinement     'SHELXL97 (Sheldrick, 2008)'
_computing_molecular_graphics     'PLATON (Spek, 2009)'
_computing_publication_material     'SHELXL97 (Sheldrick, 2008)'
loop_
    _atom_site_type_symbol
    _atom_site_label
    _atom_site_fract_x
    _atom_site_fract_y
    _atom_site_fract_z
    _atom_site_U_iso_or_equiv
    _atom_site_adp_type
    _atom_site_calc_flag
    _atom_site_refinement_flags
    _atom_site_occupancy
    _atom_site_symmetry_multiplicity
    _atom_site_disorder_assembly
    _atom_site_disorder_group
    C C1 -0.01166(16) 0.27278(16) 0.42995(11) 0.0350(5) Uani d . 1 1 . .
    C C2 -0.08805(18) 0.29514(18) 0.48387(12) 0.0388(5) Uani d . 1 1 . .
    C C3 -0.1383(2) 0.3902(2) 0.48790(14) 0.0527(6) Uani d . 1 1 . .
    H H3 -0.1875 0.4044 0.5253 0.063 Uiso calc R 1 1 . .
    C C4 -0.1152(2) 0.4641(2) 0.43633(15) 0.0570(7) Uani d . 1 1 . .
    H H4 -0.1501 0.5283 0.4381 0.068 Uiso calc R 1 1 . .
    C C5 -0.0406(2) 0.4437(2) 0.38192(15) 0.0555(7) Uani d . 1 1 . .
    H H5 -0.0253 0.4942 0.3470 0.067 Uiso calc R 1 1 . .
    C C6 0.0114(2) 0.34880(18) 0.37891(13) 0.0458(6) Uani d . 1 1 . .
    H H6 0.0624 0.3358 0.3423 0.055 Uiso calc R 1 1 . .
    C C7 -0.04990(18) 0.07627(17) 0.31441(11) 0.0374(5) Uani d . 1 1 . .
    C C8 -0.12208(17) -0.00987(17) 0.29044(11) 0.0360(5) Uani d . 1 1 . .
    C C9 -0.12101(18) -0.10611(17) 0.32424(11) 0.0382(5) Uani d . 1 1 . .
    H H9 -0.0711 -0.1183 0.3616 0.046 Uiso calc R 1 1 . .
    C C10 -0.19217(19) -0.18475(18) 0.30397(12) 0.0410(5) Uani d . 1 1 . .
    C C11 -0.2658(2) -0.16427(19) 0.24824(13) 0.0478(6) Uani d . 1 1 . .
    H H11 -0.3160 -0.2150 0.2345 0.057 Uiso calc R 1 1 . .
    C C12 -0.2657(2) -0.0692(2) 0.21280(13) 0.0508(6) Uani d . 1 1 . .
    H H12 -0.3144 -0.0575 0.1747 0.061 Uiso calc R 1 1 . .
    C C13 -0.19427(19) 0.00806(19) 0.23328(12) 0.0439(5) Uani d . 1 1 . .
    H H13 -0.1943 0.0717 0.2091 0.053 Uiso calc R 1 1 . .
    C C14 -0.1881(2) -0.2872(2) 0.34183(15) 0.0585(7) Uani d . 1 1 . .
    H H14A -0.1384 -0.2832 0.3823 0.070 Uiso calc R 1 1 . .
    H H14B -0.1636 -0.3397 0.3083 0.070 Uiso calc R 1 1 . .
    H H14C -0.2598 -0.3048 0.3593 0.070 Uiso calc R 1 1 . .
    N N1 -0.01587(16) 0.06904(15) 0.38733(10) 0.0396(4) Uani d D 1 1 . .
    H H1N -0.0492(18) 0.0295(18) 0.4169(12) 0.048 Uiso d D 1 1 . .
    N N2 -0.11943(17) 0.21727(18) 0.53943(12) 0.0520(5) Uani d . 1 1 . .
    O O1 0.15719(13) 0.17155(13) 0.38424(9) 0.0509(4) Uani d . 1 1 . .
    O O2 0.07425(14) 0.11701(13) 0.50054(9) 0.0467(4) Uani d . 1 1 . .
    O O3 -0.02247(15) 0.14867(13) 0.27686(9) 0.0522(4) Uani d . 1 1 . .
    O O4 -0.1626(2) 0.13838(17) 0.51818(12) 0.0779(6) Uani d . 1 1 . .
    O O5 -0.10064(18) 0.23912(19) 0.60303(10) 0.0743(6) Uani d . 1 1 . .
    S S1 0.06292(4) 0.15463(4) 0.42754(3) 0.03641(18) Uani d . 1 1 . .
loop_
    _atom_site_aniso_label
    _atom_site_aniso_U_11
    _atom_site_aniso_U_22
    _atom_site_aniso_U_33
    _atom_site_aniso_U_12
    _atom_site_aniso_U_13
    _atom_site_aniso_U_23
    C1 0.0315(10) 0.0356(11) 0.0379(10) -0.0050(9) -0.0016(8) 0.0003(9)
    C2 0.0348(11) 0.0432(12) 0.0383(11) -0.0042(10) 0.0017(9) 0.0074(10)
    C3 0.0457(14) 0.0565(15) 0.0558(14) 0.0051(12) 0.0116(11) 0.0021(12)
    C4 0.0618(17) 0.0420(14) 0.0672(16) 0.0094(13) 0.0066(13) 0.0048(12)
    C5 0.0707(17) 0.0399(13) 0.0559(14) -0.0009(13) 0.0121(13) 0.0125(12)
    C6 0.0521(14) 0.0427(13) 0.0427(12) -0.0032(11) 0.0105(10) 0.0024(10)
    C7 0.0424(12) 0.0369(11) 0.0328(10) 0.0049(10) -0.0020(9) -0.0024(9)
    C8 0.0386(11) 0.0380(11) 0.0315(10) 0.0037(10) -0.0018(8) -0.0051(9)
    C9 0.0399(12) 0.0415(12) 0.0331(10) 0.0026(10) -0.0059(9) -0.0043(9)
    C10 0.0441(12) 0.0414(12) 0.0374(11) -0.0008(10) 0.0012(9) -0.0078(10)
    C11 0.0454(13) 0.0486(13) 0.0492(13) -0.0030(11) -0.0073(10) -0.0171(11)
    C12 0.0526(15) 0.0542(15) 0.0457(12) 0.0088(12) -0.0184(11) -0.0125(12)
    C13 0.0545(14) 0.0402(12) 0.0371(11) 0.0100(11) -0.0077(10) -0.0051(10)
    C14 0.0701(17) 0.0478(14) 0.0577(15) -0.0141(13) -0.0055(13) -0.0004(13)
    N1 0.0475(11) 0.0375(10) 0.0337(9) -0.0093(9) -0.0039(8) 0.0002(8)
    N2 0.0445(12) 0.0611(14) 0.0505(12) 0.0044(11) 0.0119(9) 0.0157(11)
    O1 0.0370(9) 0.0558(10) 0.0600(10) -0.0012(8) 0.0064(8) -0.0048(8)
    O2 0.0538(10) 0.0472(9) 0.0392(8) 0.0012(8) -0.0141(7) 0.0009(7)
    O3 0.0684(11) 0.0454(9) 0.0428(9) -0.0089(9) -0.0063(8) 0.0099(8)
    O4 0.0936(16) 0.0595(13) 0.0806(14) -0.0224(12) 0.0100(12) 0.0177(11)
    O5 0.0813(14) 0.0986(17) 0.0429(10) 0.0126(13) 0.0139(10) 0.0159(11)
    S1 0.0352(3) 0.0378(3) 0.0362(3) -0.0018(2) -0.0033(2) -0.0015(2)
_geom_special_details
;
All e.s.d.'s (except the e.s.d. in the dihedral angle between two l.s. planes)
are estimated using the full covariance matrix. The cell e.s.d.'s are taken
into account individually in the estimation of e.s.d.'s in distances, angles
and torsion angles; correlations between e.s.d.'s in cell parameters are only
used when they are defined by crystal symmetry. An approximate (isotropic)
treatment of cell e.s.d.'s is used for estimating e.s.d.'s involving l.s.
planes.
;
loop_
    _geom_bond_atom_site_label_1
    _geom_bond_atom_site_label_2
    _geom_bond_site_symmetry_2
    _geom_bond_distance
    _geom_bond_publ_flag
    C1 C6 . 1.381(3) ?
    C1 C2 . 1.389(3) ?
    C1 S1 . 1.772(2) ?
    C2 C3 . 1.369(3) ?
    C2 N2 . 1.478(3) ?
    C3 C4 . 1.369(4) ?
    C3 H3 . 0.9300 ?
    C4 C5 . 1.376(4) ?
    C4 H4 . 0.9300 ?
    C5 C6 . 1.376(3) ?
    C5 H5 . 0.9300 ?
    C6 H6 . 0.9300 ?
    C7 O3 . 1.205(3) ?
    C7 N1 . 1.402(3) ?
    C7 C8 . 1.482(3) ?
    C8 C9 . 1.383(3) ?
    C8 C13 . 1.389(3) ?
    C9 C10 . 1.384(3) ?
    C9 H9 . 0.9300 ?
    C10 C11 . 1.386(3) ?
    C10 C14 . 1.489(4) ?
    C11 C12 . 1.384(4) ?
    C11 H11 . 0.9300 ?
    C12 C13 . 1.374(3) ?
    C12 H12 . 0.9300 ?
    C13 H13 . 0.9300 ?
    C14 H14A . 0.9600 ?
    C14 H14B . 0.9600 ?
    C14 H14C . 0.9600 ?
    N1 S1 . 1.6374(19) ?
    N1 H1N . 0.847(16) ?
    N2 O4 . 1.208(3) ?
    N2 O5 . 1.220(3) ?
    O1 S1 . 1.4159(17) ?
    O2 S1 . 1.4288(16) ?
loop_
    _geom_angle_atom_site_label_1
    _geom_angle_atom_site_label_2
    _geom_angle_atom_site_label_3
    _geom_angle_site_symmetry_1
    _geom_angle_site_symmetry_3
    _geom_angle
    _geom_angle_publ_flag
    C6 C1 C2 . . 118.2(2) ?
    C6 C1 S1 . . 118.96(17) ?
    C2 C1 S1 . . 122.75(16) ?
    C3 C2 C1 . . 121.6(2) ?
    C3 C2 N2 . . 116.8(2) ?
    C1 C2 N2 . . 121.6(2) ?
    C4 C3 C2 . . 119.3(2) ?
    C4 C3 H3 . . 120.3 ?
    C2 C3 H3 . . 120.3 ?
    C3 C4 C5 . . 120.3(2) ?
    C3 C4 H4 . . 119.9 ?
    C5 C4 H4 . . 119.9 ?
    C4 C5 C6 . . 120.3(2) ?
    C4 C5 H5 . . 119.9 ?
    C6 C5 H5 . . 119.9 ?
    C5 C6 C1 . . 120.3(2) ?
    C5 C6 H6 . . 119.8 ?
    C1 C6 H6 . . 119.8 ?
    O3 C7 N1 . . 120.8(2) ?
    O3 C7 C8 . . 125.01(19) ?
    N1 C7 C8 . . 114.15(19) ?
    C9 C8 C13 . . 119.5(2) ?
    C9 C8 C7 . . 121.99(18) ?
    C13 C8 C7 . . 118.5(2) ?
    C8 C9 C10 . . 121.8(2) ?
    C8 C9 H9 . . 119.1 ?
    C10 C9 H9 . . 119.1 ?
    C9 C10 C11 . . 117.8(2) ?
    C9 C10 C14 . . 120.0(2) ?
    C11 C10 C14 . . 122.2(2) ?
    C12 C11 C10 . . 120.8(2) ?
    C12 C11 H11 . . 119.6 ?
    C10 C11 H11 . . 119.6 ?
    C13 C12 C11 . . 120.7(2) ?
    C13 C12 H12 . . 119.6 ?
    C11 C12 H12 . . 119.6 ?
    C12 C13 C8 . . 119.3(2) ?
    C12 C13 H13 . . 120.3 ?
    C8 C13 H13 . . 120.3 ?
    C10 C14 H14A . . 109.5 ?
    C10 C14 H14B . . 109.5 ?
    H14A C14 H14B . . 109.5 ?
    C10 C14 H14C . . 109.5 ?
    H14A C14 H14C . . 109.5 ?
    H14B C14 H14C . . 109.5 ?
    C7 N1 S1 . . 123.95(16) ?
    C7 N1 H1N . . 120.4(17) ?
    S1 N1 H1N . . 113.5(17) ?
    O4 N2 O5 . . 125.7(2) ?
    O4 N2 C2 . . 117.4(2) ?
    O5 N2 C2 . . 116.9(2) ?
    O1 S1 O2 . . 119.82(11) ?
    O1 S1 N1 . . 109.29(10) ?
    O2 S1 N1 . . 104.51(10) ?
    O1 S1 C1 . . 107.53(10) ?
    O2 S1 C1 . . 108.46(10) ?
    N1 S1 C1 . . 106.52(10) ?
loop_
    _geom_torsion_atom_site_label_1
    _geom_torsion_atom_site_label_2
    _geom_torsion_atom_site_label_3
    _geom_torsion_atom_site_label_4
    _geom_torsion_site_symmetry_1
    _geom_torsion_site_symmetry_2
    _geom_torsion_site_symmetry_3
    _geom_torsion_site_symmetry_4
    _geom_torsion
    _geom_torsion_publ_flag
    C6 C1 C2 C3 . . . . -1.2(3) ?
    S1 C1 C2 C3 . . . . 174.72(19) ?
    C6 C1 C2 N2 . . . . 178.5(2) ?
    S1 C1 C2 N2 . . . . -5.6(3) ?
    C1 C2 C3 C4 . . . . 2.0(4) ?
    N2 C2 C3 C4 . . . . -177.7(2) ?
    C2 C3 C4 C5 . . . . -1.4(4) ?
    C3 C4 C5 C6 . . . . 0.0(4) ?
    C4 C5 C6 C1 . . . . 0.7(4) ?
    C2 C1 C6 C5 . . . . -0.1(3) ?
    S1 C1 C6 C5 . . . . -176.2(2) ?
    O3 C7 C8 C9 . . . . 157.0(2) ?
    N1 C7 C8 C9 . . . . -24.3(3) ?
    O3 C7 C8 C13 . . . . -24.3(3) ?
    N1 C7 C8 C13 . . . . 154.3(2) ?
    C13 C8 C9 C10 . . . . -1.7(3) ?
    C7 C8 C9 C10 . . . . 176.87(19) ?
    C8 C9 C10 C11 . . . . -0.2(3) ?
    C8 C9 C10 C14 . . . . 180.0(2) ?
    C9 C10 C11 C12 . . . . 1.9(3) ?
    C14 C10 C11 C12 . . . . -178.3(2) ?
    C10 C11 C12 C13 . . . . -1.7(4) ?
    C11 C12 C13 C8 . . . . -0.3(4) ?
    C9 C8 C13 C12 . . . . 2.0(3) ?
    C7 C8 C13 C12 . . . . -176.7(2) ?
    O3 C7 N1 S1 . . . . -0.6(3) ?
    C8 C7 N1 S1 . . . . -179.30(15) ?
    C3 C2 N2 O4 . . . . 117.3(3) ?
    C1 C2 N2 O4 . . . . -62.4(3) ?
    C3 C2 N2 O5 . . . . -61.8(3) ?
    C1 C2 N2 O5 . . . . 118.5(3) ?
    C7 N1 S1 O1 . . . . -51.6(2) ?
    C7 N1 S1 O2 . . . . 179.02(18) ?
    C7 N1 S1 C1 . . . . 64.3(2) ?
    C6 C1 S1 O1 . . . . 16.5(2) ?
    C2 C1 S1 O1 . . . . -159.39(18) ?
    C6 C1 S1 O2 . . . . 147.47(18) ?
    C2 C1 S1 O2 . . . . -28.4(2) ?
    C6 C1 S1 N1 . . . . -100.53(19) ?
    C2 C1 S1 N1 . . . . 83.54(19) ?
loop_
    _geom_hbond_atom_site_label_D
    _geom_hbond_atom_site_label_H
    _geom_hbond_atom_site_label_A
    _geom_hbond_site_symmetry_A
    _geom_hbond_distance_DH
    _geom_hbond_distance_HA
    _geom_hbond_distance_DA
    _geom_hbond_angle_DHA
    N1 H1N O2 5_556 0.847(16) 2.434(19) 3.232(3) 157(2)
data_global
_journal_date_recd_electronic     2012-01-10
_journal_date_accepted     2012-01-13
_journal_name_full     'Acta Crystallographica, Section E'
_journal_year     2012
_journal_volume     68
_journal_issue      2
_journal_page_first     o462
_journal_page_last     o462
_journal_paper_category     QO
_journal_paper_doi     10.1107/S160053681200164X
_journal_coeditor_code     BQ2333
_publ_contact_author_name     'Prof. B. Thimme Gowda'
_publ_contact_author_address
;
  Department of Chemistry
  Mangalore University
  Mangalagangotri 574 199
  Mangalore, India
;
_publ_contact_author_email     gowdabt@yahoo.com
_publ_contact_author_fax     '91 824 2287367'
_publ_contact_author_phone     '91 824 2287262'
_publ_section_title
;
N-(3-Methylbenzoyl)-2-nitrobenzenesulfonamide
;
loop_
    _publ_author_name
    _publ_author_address
    'P. A. Suchetan'
; Department of Chemistry
  Mangalore University
  Mangalagangotri 574 199
  Mangalore, India
;
    'Sabine Foro'
; Institute of Materials Science
  Darmstadt University of Technology
  Petersenstrasse 23
  D-64287 Darmstadt, Germany
;
    'B. Thimme Gowda'
; Department of Chemistry
  Mangalore University
  Mangalagangotri 574 199
  Mangalore, India
;
